BEGIN:VCALENDAR
VERSION:2.0
PRODID:icalendar-ruby
CALSCALE:GREGORIAN
METHOD:PUBLISH
BEGIN:VEVENT
DTSTAMP:20260424T220234Z
UID:009e1c09-1194-46b5-8fd1-7972c2c065ba
DTSTART;VALUE=DATE:20220826
DTEND;VALUE=DATE:20220826
DESCRIPTION:VMP BMX
LOCATION:8018 Boydton Plank Road  N Dinwiddie VA 23803 USA
SUMMARY:Race for Life Double
URL:/site/bmx_races/501826
END:VEVENT
END:VCALENDAR
