BEGIN:VCALENDAR
VERSION:2.0
PRODID:icalendar-ruby
CALSCALE:GREGORIAN
METHOD:PUBLISH
BEGIN:VEVENT
DTSTAMP:20260424T173502Z
UID:4046036f-3e9e-48a0-94f5-0183f84323b1
DTSTART;VALUE=DATE:20220824
DTEND;VALUE=DATE:20220824
DESCRIPTION:Winnebagoland BMX
LOCATION:4650 Jackson Street  Oshkosh WI 54901 USA
SUMMARY:Local Race Single
URL:/site/bmx_races/501773
END:VEVENT
END:VCALENDAR
