BEGIN:VCALENDAR
VERSION:2.0
PRODID:icalendar-ruby
CALSCALE:GREGORIAN
METHOD:PUBLISH
BEGIN:VEVENT
DTSTAMP:20260424T192127Z
UID:0c35c8ef-d683-4b47-a7eb-32d05047f7db
DTSTART;VALUE=DATE:20220607
DTEND;VALUE=DATE:20220607
DESCRIPTION:Gretna BMX Raceway
LOCATION:800 Gretna Blvd  Gretna LA 70053 USA
SUMMARY:Local Race Single
URL:/site/bmx_races/501598
END:VEVENT
END:VCALENDAR
