BEGIN:VCALENDAR
VERSION:2.0
PRODID:icalendar-ruby
CALSCALE:GREGORIAN
METHOD:PUBLISH
BEGIN:VEVENT
DTSTAMP:20260424T101235Z
UID:e4bb4203-56b5-4671-95f9-4fe3f3d05ff5
DTSTART;VALUE=DATE:20220827
DTEND;VALUE=DATE:20220827
DESCRIPTION:Imagination Glen BMX
LOCATION:2190 N State Rd 149  Portage IN 46304 USA
SUMMARY:Warnicke Double
URL:/site/bmx_races/501511
END:VEVENT
END:VCALENDAR
