BEGIN:VCALENDAR
VERSION:2.0
PRODID:icalendar-ruby
CALSCALE:GREGORIAN
METHOD:PUBLISH
BEGIN:VEVENT
DTSTAMP:20260425T115208Z
UID:e0c43734-fcc9-4e4d-8e1d-92cea5a9bdc9
DTSTART;VALUE=DATE:20220510
DTEND;VALUE=DATE:20220510
DESCRIPTION:Smith Rock BMX
LOCATION:1935 Ne Maple  Redmond OR 97756 USA
SUMMARY:Local Race Single
URL:/site/bmx_races/501392
END:VEVENT
END:VCALENDAR
