BEGIN:VCALENDAR
VERSION:2.0
PRODID:icalendar-ruby
CALSCALE:GREGORIAN
METHOD:PUBLISH
BEGIN:VEVENT
DTSTAMP:20260424T120049Z
UID:cf3e9c2f-4a0a-4e9e-8047-14baecf0de96
DTSTART;VALUE=DATE:20220519
DTEND;VALUE=DATE:20220519
DESCRIPTION:Marquette BMX
LOCATION:910 Hawley Street  Marquette MI 49855 USA
SUMMARY:Local Race Single
URL:/site/bmx_races/501286
END:VEVENT
END:VCALENDAR
