BEGIN:VCALENDAR
VERSION:2.0
PRODID:icalendar-ruby
CALSCALE:GREGORIAN
METHOD:PUBLISH
BEGIN:VEVENT
DTSTAMP:20260424T201154Z
UID:415adaa2-f0b2-434f-973f-9e94fab0f4d6
DTSTART;VALUE=DATE:20220513
DTEND;VALUE=DATE:20220513
DESCRIPTION:East Moline BMX
LOCATION:1930 Avenue Of The Cities  East Moline IL 61241 USA
SUMMARY:Local Race Single
URL:/site/bmx_races/501183
END:VEVENT
END:VCALENDAR
