BEGIN:VCALENDAR
VERSION:2.0
PRODID:icalendar-ruby
CALSCALE:GREGORIAN
METHOD:PUBLISH
BEGIN:VEVENT
DTSTAMP:20260425T142046Z
UID:17fc49c2-829b-46c3-98e2-2d465e36ed1d
DTSTART;VALUE=DATE:20221026
DTEND;VALUE=DATE:20221026
DESCRIPTION:Bethel Supercross BMX
LOCATION:162 Old Hawleyville Rd  Bethel CT 06801 USA
SUMMARY:Local Race Single
URL:/site/bmx_races/500976
END:VEVENT
END:VCALENDAR
