BEGIN:VCALENDAR
VERSION:2.0
PRODID:icalendar-ruby
CALSCALE:GREGORIAN
METHOD:PUBLISH
BEGIN:VEVENT
DTSTAMP:20260425T202321Z
UID:8916eb39-a9a8-4dd0-bd2f-4076d4c36211
DTSTART;VALUE=DATE:20220424
DTEND;VALUE=DATE:20220424
DESCRIPTION:Bonzai BMX
LOCATION:7201 Arlene Laman Dr  N. Little Rock AR 72118 USA
SUMMARY:Local Race Single
URL:/site/bmx_races/500560
END:VEVENT
END:VCALENDAR
