BEGIN:VCALENDAR
VERSION:2.0
PRODID:icalendar-ruby
CALSCALE:GREGORIAN
METHOD:PUBLISH
BEGIN:VEVENT
DTSTAMP:20260424T201435Z
UID:e2bc86e7-e429-4e92-988f-f2486f2f66cf
DTSTART;VALUE=DATE:20220904
DTEND;VALUE=DATE:20220904
DESCRIPTION:Bonzai BMX
LOCATION:7201 Arlene Laman Dr  N. Little Rock AR 72118 USA
SUMMARY:State Final Triple
URL:/site/bmx_races/500246
END:VEVENT
END:VCALENDAR
