BEGIN:VCALENDAR
VERSION:2.0
PRODID:icalendar-ruby
CALSCALE:GREGORIAN
METHOD:PUBLISH
BEGIN:VEVENT
DTSTAMP:20260425T201646Z
UID:075fa107-507e-4b68-8a76-4c87fdfc66fe
DTSTART;VALUE=DATE:20220416
DTEND;VALUE=DATE:20220416
DESCRIPTION:Gretna BMX Raceway
LOCATION:800 Gretna Blvd  Gretna LA 70053 USA
SUMMARY:Local Race Single
URL:/site/bmx_races/500215
END:VEVENT
END:VCALENDAR
