BEGIN:VCALENDAR
VERSION:2.0
PRODID:icalendar-ruby
CALSCALE:GREGORIAN
METHOD:PUBLISH
BEGIN:VEVENT
DTSTAMP:20260425T024739Z
UID:a4766301-d4e7-4fb1-8dc6-a51d39db752b
DTSTART;VALUE=DATE:20220805
DTEND;VALUE=DATE:20220805
DESCRIPTION:Omaha BMX
LOCATION:11111 W Maple Rd  Omaha NE 68164 USA
SUMMARY:Earned Double
URL:/site/bmx_races/500198
END:VEVENT
END:VCALENDAR
