BEGIN:VCALENDAR
VERSION:2.0
PRODID:icalendar-ruby
CALSCALE:GREGORIAN
METHOD:PUBLISH
BEGIN:VEVENT
DTSTAMP:20260424T101227Z
UID:49a51bdc-cb19-4c94-afa0-1bcd3c3b2c62
DTSTART;VALUE=DATE:20220619
DTEND;VALUE=DATE:20220619
DESCRIPTION:Mile High BMX
LOCATION:3606 S Independence St  Denver CO 80235 USA
SUMMARY:Local Race Single
URL:/site/bmx_races/500030
END:VEVENT
END:VCALENDAR
