BEGIN:VCALENDAR
VERSION:2.0
PRODID:icalendar-ruby
CALSCALE:GREGORIAN
METHOD:PUBLISH
BEGIN:VEVENT
DTSTAMP:20260426T003948Z
UID:181b59d9-08e4-41c1-be4b-522d5caf350e
DTSTART;VALUE=DATE:20220805
DTEND;VALUE=DATE:20220805
DESCRIPTION:Dacono BMX
LOCATION:113 Forest Ave  Dacono CO 80514 USA
SUMMARY:Local Race Single
URL:/site/bmx_races/499957
END:VEVENT
END:VCALENDAR
