BEGIN:VCALENDAR
VERSION:2.0
PRODID:icalendar-ruby
CALSCALE:GREGORIAN
METHOD:PUBLISH
BEGIN:VEVENT
DTSTAMP:20260425T191023Z
UID:0cfa9eee-0bb4-40dd-bbde-2217379965d2
DTSTART;VALUE=DATE:20220406
DTEND;VALUE=DATE:20220406
DESCRIPTION:Capitol City BMX
LOCATION:5001 Killingsworth Lane  Pflugerville TX 78660 USA
SUMMARY:Local Race Single
URL:/site/bmx_races/499904
END:VEVENT
END:VCALENDAR
