BEGIN:VCALENDAR
VERSION:2.0
PRODID:icalendar-ruby
CALSCALE:GREGORIAN
METHOD:PUBLISH
BEGIN:VEVENT
DTSTAMP:20260424T131300Z
UID:63bc9adb-54cb-4bc6-ad8a-415817a92839
DTSTART;VALUE=DATE:20220412
DTEND;VALUE=DATE:20220412
DESCRIPTION:Cape Coral BMX
LOCATION:1410 Sw 6th Place  Cape Coral FL 33991 USA
SUMMARY:Local Race Single
URL:/site/bmx_races/499886
END:VEVENT
END:VCALENDAR
