BEGIN:VCALENDAR
VERSION:2.0
PRODID:icalendar-ruby
CALSCALE:GREGORIAN
METHOD:PUBLISH
BEGIN:VEVENT
DTSTAMP:20260425T011740Z
UID:0ce4464c-0e64-46fc-abde-2328163eeaa3
DTSTART;VALUE=DATE:20220925
DTEND;VALUE=DATE:20220925
DESCRIPTION:Duke City BMX
LOCATION:1011 Buena Vista Dr Se  Albuquerque NM 87106 USA
SUMMARY:State Final Triple
URL:/site/bmx_races/499745
END:VEVENT
END:VCALENDAR
