BEGIN:VCALENDAR
VERSION:2.0
PRODID:icalendar-ruby
CALSCALE:GREGORIAN
METHOD:PUBLISH
BEGIN:VEVENT
DTSTAMP:20260424T121216Z
UID:405230b2-a1d4-4027-8632-065c600b9842
DTSTART;VALUE=DATE:20220713
DTEND;VALUE=DATE:20220713
DESCRIPTION:Grand Forks BMX
LOCATION:Kettle River Dr & 7th St  Grand Forks BC V0H1H0 CAN
SUMMARY:Local Race Single
URL:/site/bmx_races/499672
END:VEVENT
END:VCALENDAR
