BEGIN:VCALENDAR
VERSION:2.0
PRODID:icalendar-ruby
CALSCALE:GREGORIAN
METHOD:PUBLISH
BEGIN:VEVENT
DTSTAMP:20260425T201709Z
UID:5a34cbb9-b580-4480-ba01-8f0fcd52255c
DTSTART;VALUE=DATE:20220405
DTEND;VALUE=DATE:20220405
DESCRIPTION:Gretna BMX Raceway
LOCATION:800 Gretna Blvd  Gretna LA 70053 USA
SUMMARY:Local Race Single
URL:/site/bmx_races/499537
END:VEVENT
END:VCALENDAR
