BEGIN:VCALENDAR
VERSION:2.0
PRODID:icalendar-ruby
CALSCALE:GREGORIAN
METHOD:PUBLISH
BEGIN:VEVENT
DTSTAMP:20260425T202210Z
UID:94ddd61d-5f48-4ecc-8ebb-bc07272265d7
DTSTART;VALUE=DATE:20220906
DTEND;VALUE=DATE:20220906
DESCRIPTION:Milton BMX - Track 2000 
LOCATION:Drumquin Park   Britania Road Milton ON L9T 7G6 CAN
SUMMARY:Local Race Single
URL:/site/bmx_races/499269
END:VEVENT
END:VCALENDAR
