BEGIN:VCALENDAR
VERSION:2.0
PRODID:icalendar-ruby
CALSCALE:GREGORIAN
METHOD:PUBLISH
BEGIN:VEVENT
DTSTAMP:20260424T220403Z
UID:3ba87b17-e75b-44be-9f91-919b1af06020
DTSTART;VALUE=DATE:20220403
DTEND;VALUE=DATE:20220403
DESCRIPTION:Bonzai BMX
LOCATION:7201 Arlene Laman Dr  N. Little Rock AR 72118 USA
SUMMARY:Local Race Single
URL:/site/bmx_races/499027
END:VEVENT
END:VCALENDAR
