BEGIN:VCALENDAR
VERSION:2.0
PRODID:icalendar-ruby
CALSCALE:GREGORIAN
METHOD:PUBLISH
BEGIN:VEVENT
DTSTAMP:20260424T115227Z
UID:b9e41cdc-7751-4723-819c-1aa48f40bbea
DTSTART;VALUE=DATE:20220501
DTEND;VALUE=DATE:20220501
DESCRIPTION:Boomtown BMX
LOCATION:17760 Shasta Dam Blvd  Shasta Lake CA 96019 USA
SUMMARY:Local Race Single
URL:/site/bmx_races/498821
END:VEVENT
END:VCALENDAR
