BEGIN:VCALENDAR
VERSION:2.0
PRODID:icalendar-ruby
CALSCALE:GREGORIAN
METHOD:PUBLISH
BEGIN:VEVENT
DTSTAMP:20260424T172952Z
UID:6dc1650f-a06b-4e5f-9779-7e7b3a226f83
DTSTART;VALUE=DATE:20220802
DTEND;VALUE=DATE:20220802
DESCRIPTION:Shelby Farms BMX
LOCATION:6435 Walnut Grove Rd  Memphis TN 38119 USA
SUMMARY:Local Race Single
URL:/site/bmx_races/498756
END:VEVENT
END:VCALENDAR
