BEGIN:VCALENDAR
VERSION:2.0
PRODID:icalendar-ruby
CALSCALE:GREGORIAN
METHOD:PUBLISH
BEGIN:VEVENT
DTSTAMP:20260424T220229Z
UID:fcb955f5-13f5-4e18-9ac3-1dad33027e6d
DTSTART;VALUE=DATE:20220705
DTEND;VALUE=DATE:20220705
DESCRIPTION:Spreckels Park BMX
LOCATION:941 Spreckels Ave  Manteca CA 95336 USA
SUMMARY:Local Race Single
URL:/site/bmx_races/498532
END:VEVENT
END:VCALENDAR
