BEGIN:VCALENDAR
VERSION:2.0
PRODID:icalendar-ruby
CALSCALE:GREGORIAN
METHOD:PUBLISH
BEGIN:VEVENT
DTSTAMP:20260424T185918Z
UID:f337e86f-95d8-4e39-89d4-1d3a30f26aeb
DTSTART;VALUE=DATE:20220521
DTEND;VALUE=DATE:20220521
DESCRIPTION:Coal Hills BMX
LOCATION:2815 Dunsmuir Ave  Cumberland BC V0R1S0 CAN
SUMMARY:Earned Double
URL:/site/bmx_races/498224
END:VEVENT
END:VCALENDAR
