BEGIN:VCALENDAR
VERSION:2.0
PRODID:icalendar-ruby
CALSCALE:GREGORIAN
METHOD:PUBLISH
BEGIN:VEVENT
DTSTAMP:20260424T072238Z
UID:12bd25bc-7ed3-4c5f-aac4-ea8c8d194ccf
DTSTART;VALUE=DATE:20220604
DTEND;VALUE=DATE:20220604
DESCRIPTION:EHT BMX
LOCATION:Veterans Memorial Park Ocean Heights Ave Egg Harbor Township NJ 08
 234 USA
SUMMARY:Local Race Single
URL:/site/bmx_races/498055
END:VEVENT
END:VCALENDAR
