BEGIN:VCALENDAR
VERSION:2.0
PRODID:icalendar-ruby
CALSCALE:GREGORIAN
METHOD:PUBLISH
BEGIN:VEVENT
DTSTAMP:20260425T231017Z
UID:ac01a83a-c191-45c5-a4b7-d2c5c2b75848
DTSTART;VALUE=DATE:20220930
DTEND;VALUE=DATE:20220930
DESCRIPTION:Blue Springs BMX
LOCATION:2715 Nw Park Drive  Blue Springs MO 64015 USA
SUMMARY:Local Race Single
URL:/site/bmx_races/497994
END:VEVENT
END:VCALENDAR
