BEGIN:VCALENDAR
VERSION:2.0
PRODID:icalendar-ruby
CALSCALE:GREGORIAN
METHOD:PUBLISH
BEGIN:VEVENT
DTSTAMP:20260425T214805Z
UID:46ed4a07-b55d-493c-b65a-771084b54e6c
DTSTART;VALUE=DATE:20220902
DTEND;VALUE=DATE:20220902
DESCRIPTION:Blue Springs BMX
LOCATION:2715 Nw Park Drive  Blue Springs MO 64015 USA
SUMMARY:Local Race Single
URL:/site/bmx_races/497990
END:VEVENT
END:VCALENDAR
