BEGIN:VCALENDAR
VERSION:2.0
PRODID:icalendar-ruby
CALSCALE:GREGORIAN
METHOD:PUBLISH
BEGIN:VEVENT
DTSTAMP:20260424T105800Z
UID:08c35bd0-1c42-456e-baf2-61a2d1d24d8a
DTSTART;VALUE=DATE:20220402
DTEND;VALUE=DATE:20220402
DESCRIPTION:RockStar Energy Bike Park
LOCATION:12257 Kukendahl Rd  Houston TX 77067 USA
SUMMARY:Local Race Single
URL:/site/bmx_races/497830
END:VEVENT
END:VCALENDAR
