BEGIN:VCALENDAR
VERSION:2.0
PRODID:icalendar-ruby
CALSCALE:GREGORIAN
METHOD:PUBLISH
BEGIN:VEVENT
DTSTAMP:20260424T113650Z
UID:d46bc1f6-1e5a-48a0-a756-b3d94b788e89
DTSTART;VALUE=DATE:20220427
DTEND;VALUE=DATE:20220427
DESCRIPTION:Dacono BMX
LOCATION:113 Forest Ave  Dacono CO 80514 USA
SUMMARY:Local Race Single
URL:/site/bmx_races/497510
END:VEVENT
END:VCALENDAR
