BEGIN:VCALENDAR
VERSION:2.0
PRODID:icalendar-ruby
CALSCALE:GREGORIAN
METHOD:PUBLISH
BEGIN:VEVENT
DTSTAMP:20260425T024536Z
UID:20dc9958-15f1-4c50-a8ee-b1972c4b3f21
DTSTART;VALUE=DATE:20220529
DTEND;VALUE=DATE:20220529
DESCRIPTION:Manzanita Park BMX
LOCATION: 17100 Castroville Blvd  Prunedale CA 93907 USA
SUMMARY:Local Race Single
URL:/site/bmx_races/496941
END:VEVENT
END:VCALENDAR
