BEGIN:VCALENDAR
VERSION:2.0
PRODID:icalendar-ruby
CALSCALE:GREGORIAN
METHOD:PUBLISH
BEGIN:VEVENT
DTSTAMP:20260424T113646Z
UID:7e5aee63-4925-4a5c-8591-8905a9456cdc
DTSTART;VALUE=DATE:20220903
DTEND;VALUE=DATE:20220903
DESCRIPTION:Horseheads BMX
LOCATION:190 Wygant Rd  Horseheads NY 14845 USA
SUMMARY:Local Race Single
URL:/site/bmx_races/496419
END:VEVENT
END:VCALENDAR
