BEGIN:VCALENDAR
VERSION:2.0
PRODID:icalendar-ruby
CALSCALE:GREGORIAN
METHOD:PUBLISH
BEGIN:VEVENT
DTSTAMP:20260425T024617Z
UID:334c33e9-e23f-4256-a0b9-7409789dcac9
DTSTART;VALUE=DATE:20220918
DTEND;VALUE=DATE:20220918
DESCRIPTION:Richmond BMX
LOCATION:4401 Hobbs Lane   Next To Church Richmond VA 23231 USA
SUMMARY:Local Race Single
URL:/site/bmx_races/496374
END:VEVENT
END:VCALENDAR
