BEGIN:VCALENDAR
VERSION:2.0
PRODID:icalendar-ruby
CALSCALE:GREGORIAN
METHOD:PUBLISH
BEGIN:VEVENT
DTSTAMP:20260424T121219Z
UID:bfa4ef1f-6351-46e6-a4af-56527f302390
DTSTART;VALUE=DATE:20220820
DTEND;VALUE=DATE:20220820
DESCRIPTION:Razor City BMX
LOCATION:200 Pumphouse Ln  Gillette WY 82716 USA
SUMMARY:Earned Double
URL:/site/bmx_races/495841
END:VEVENT
END:VCALENDAR
