BEGIN:VCALENDAR
VERSION:2.0
PRODID:icalendar-ruby
CALSCALE:GREGORIAN
METHOD:PUBLISH
BEGIN:VEVENT
DTSTAMP:20260424T131239Z
UID:f5331e83-e1c5-4d3a-a847-82cbe032ee9b
DTSTART;VALUE=DATE:20220513
DTEND;VALUE=DATE:20220513
DESCRIPTION:Grand Traverse County BMX
LOCATION:3625 Nimrod Rd  Traverse County MI 49685 USA
SUMMARY:Race for Life Single
URL:/site/bmx_races/495840
END:VEVENT
END:VCALENDAR
