BEGIN:VCALENDAR
VERSION:2.0
PRODID:icalendar-ruby
CALSCALE:GREGORIAN
METHOD:PUBLISH
BEGIN:VEVENT
DTSTAMP:20260424T212620Z
UID:dd8bf6c0-ed74-4112-929b-0d3d5713005d
DTSTART;VALUE=DATE:20220708
DTEND;VALUE=DATE:20220708
DESCRIPTION:Tucson BMX
LOCATION:9245 E Irvington  Tucson AZ 85730 USA
SUMMARY:Local Race Single
URL:/site/bmx_races/495770
END:VEVENT
END:VCALENDAR
