BEGIN:VCALENDAR
VERSION:2.0
PRODID:icalendar-ruby
CALSCALE:GREGORIAN
METHOD:PUBLISH
BEGIN:VEVENT
DTSTAMP:20260425T115122Z
UID:d66221ee-2ed4-42ac-b586-cdbde177dca2
DTSTART;VALUE=DATE:20221028
DTEND;VALUE=DATE:20221028
DESCRIPTION:Hodag BMX
LOCATION:995 Lynne St  Rhinelander WI 54501 USA
SUMMARY:Local Race Single
URL:/site/bmx_races/495420
END:VEVENT
END:VCALENDAR
