BEGIN:VCALENDAR
VERSION:2.0
PRODID:icalendar-ruby
CALSCALE:GREGORIAN
METHOD:PUBLISH
BEGIN:VEVENT
DTSTAMP:20260425T183227Z
UID:301cef5e-aecb-4a17-971f-46f3ce26f293
DTSTART;VALUE=DATE:20220608
DTEND;VALUE=DATE:20220608
DESCRIPTION:Mankato Area BMX
LOCATION:100 Industrial Rd  Mankato MN 56001 USA
SUMMARY:Local Race Single
URL:/site/bmx_races/495354
END:VEVENT
END:VCALENDAR
