BEGIN:VCALENDAR
VERSION:2.0
PRODID:icalendar-ruby
CALSCALE:GREGORIAN
METHOD:PUBLISH
BEGIN:VEVENT
DTSTAMP:20260425T143505Z
UID:3306edc4-ef48-4cc5-9a03-e69af229272f
DTSTART;VALUE=DATE:20221029
DTEND;VALUE=DATE:20221029
DESCRIPTION:Burdette Park BMX
LOCATION:5821 Nurrenbern Rd  Evansville IN 47712 USA
SUMMARY:Local Race Single
URL:/site/bmx_races/494926
END:VEVENT
END:VCALENDAR
