BEGIN:VCALENDAR
VERSION:2.0
PRODID:icalendar-ruby
CALSCALE:GREGORIAN
METHOD:PUBLISH
BEGIN:VEVENT
DTSTAMP:20260425T231611Z
UID:09ea0c94-fdc8-4694-b9c2-b6e7021a6940
DTSTART;VALUE=DATE:20221007
DTEND;VALUE=DATE:20221007
DESCRIPTION:Burdette Park BMX
LOCATION:5821 Nurrenbern Rd  Evansville IN 47712 USA
SUMMARY:Local Race Single
URL:/site/bmx_races/494916
END:VEVENT
END:VCALENDAR
