BEGIN:VCALENDAR
VERSION:2.0
PRODID:icalendar-ruby
CALSCALE:GREGORIAN
METHOD:PUBLISH
BEGIN:VEVENT
DTSTAMP:20260424T115537Z
UID:f66a1e7b-fb52-40a3-b27d-006ef7e93ba0
DTSTART;VALUE=DATE:20220701
DTEND;VALUE=DATE:20220701
DESCRIPTION:Burdette Park BMX
LOCATION:5821 Nurrenbern Rd  Evansville IN 47712 USA
SUMMARY:Local Race Single
URL:/site/bmx_races/494875
END:VEVENT
END:VCALENDAR
