BEGIN:VCALENDAR
VERSION:2.0
PRODID:icalendar-ruby
CALSCALE:GREGORIAN
METHOD:PUBLISH
BEGIN:VEVENT
DTSTAMP:20260425T213542Z
UID:a986aa66-5301-4672-9650-ff84d3c401d9
DTSTART;VALUE=DATE:20221022
DTEND;VALUE=DATE:20221022
DESCRIPTION:Gretna BMX Raceway
LOCATION:800 Gretna Blvd  Gretna LA 70053 USA
SUMMARY:Earned Double
URL:/site/bmx_races/494667
END:VEVENT
END:VCALENDAR
