BEGIN:VCALENDAR
VERSION:2.0
PRODID:icalendar-ruby
CALSCALE:GREGORIAN
METHOD:PUBLISH
BEGIN:VEVENT
DTSTAMP:20260425T024501Z
UID:a2484e98-ecc9-48b3-8d79-7c818244de20
DTSTART;VALUE=DATE:20220514
DTEND;VALUE=DATE:20220514
DESCRIPTION:Cape Coral BMX
LOCATION:1410 Sw 6th Place  Cape Coral FL 33991 USA
SUMMARY:Local Race Single
URL:/site/bmx_races/494593
END:VEVENT
END:VCALENDAR
