BEGIN:VCALENDAR
VERSION:2.0
PRODID:icalendar-ruby
CALSCALE:GREGORIAN
METHOD:PUBLISH
BEGIN:VEVENT
DTSTAMP:20260424T104430Z
UID:2fae7cbd-f081-4560-a542-600368489cbb
DTSTART;VALUE=DATE:20220423
DTEND;VALUE=DATE:20220423
DESCRIPTION:Cabot BMX
LOCATION:2351 Willie Ray Road  Cabot AR 72023 USA
SUMMARY:Local Race Single
URL:/site/bmx_races/494335
END:VEVENT
END:VCALENDAR
