BEGIN:VCALENDAR
VERSION:2.0
PRODID:icalendar-ruby
CALSCALE:GREGORIAN
METHOD:PUBLISH
BEGIN:VEVENT
DTSTAMP:20260424T215457Z
UID:95b2354b-71f7-469f-9b4d-2a1ee3c94d0d
DTSTART;VALUE=DATE:20220825
DTEND;VALUE=DATE:20220825
DESCRIPTION:Johnstown BMX
LOCATION:260 Playground Drive  Johnstown PA 15904 USA
SUMMARY:Local Race Single
URL:/site/bmx_races/494306
END:VEVENT
END:VCALENDAR
