BEGIN:VCALENDAR
VERSION:2.0
PRODID:icalendar-ruby
CALSCALE:GREGORIAN
METHOD:PUBLISH
BEGIN:VEVENT
DTSTAMP:20260425T021654Z
UID:94313e16-28d9-416b-92b6-db19c6404815
DTSTART;VALUE=DATE:20220512
DTEND;VALUE=DATE:20220512
DESCRIPTION:Johnstown BMX
LOCATION:260 Playground Drive  Johnstown PA 15904 USA
SUMMARY:Local Race Single
URL:/site/bmx_races/494295
END:VEVENT
END:VCALENDAR
