BEGIN:VCALENDAR
VERSION:2.0
PRODID:icalendar-ruby
CALSCALE:GREGORIAN
METHOD:PUBLISH
BEGIN:VEVENT
DTSTAMP:20260425T024732Z
UID:d7a8c2b6-067f-4eb1-a3d5-93cbed398bd1
DTSTART;VALUE=DATE:20221127
DTEND;VALUE=DATE:20221127
DESCRIPTION:First State BMX
LOCATION:1045 N Walnut St  Milford DE 19963 USA
SUMMARY:Warnicke Double
URL:/site/bmx_races/494170
END:VEVENT
END:VCALENDAR
