BEGIN:VCALENDAR
VERSION:2.0
PRODID:icalendar-ruby
CALSCALE:GREGORIAN
METHOD:PUBLISH
BEGIN:VEVENT
DTSTAMP:20260424T104412Z
UID:7d1efa5b-f9ef-40d4-8d39-6378b29633a2
DTSTART;VALUE=DATE:20220430
DTEND;VALUE=DATE:20220430
DESCRIPTION:Marysville BMX
LOCATION:618 N Main St  Marysville OH 43040 USA
SUMMARY:Local Race Single
URL:/site/bmx_races/493871
END:VEVENT
END:VCALENDAR
