BEGIN:VCALENDAR
VERSION:2.0
PRODID:icalendar-ruby
CALSCALE:GREGORIAN
METHOD:PUBLISH
BEGIN:VEVENT
DTSTAMP:20260424T202406Z
UID:c52221cc-6741-4479-9f43-3299183b1e85
DTSTART;VALUE=DATE:20220204
DTEND;VALUE=DATE:20220204
DESCRIPTION:Yuma BMX
LOCATION:3067 S Pacific Ave  Yuma AZ 85364 USA
SUMMARY:Local Race Single
URL:/site/bmx_races/493856
END:VEVENT
END:VCALENDAR
