BEGIN:VCALENDAR
VERSION:2.0
PRODID:icalendar-ruby
CALSCALE:GREGORIAN
METHOD:PUBLISH
BEGIN:VEVENT
DTSTAMP:20260424T191956Z
UID:0b57465a-8daf-412f-9e8a-00a4cc4d6f72
DTSTART;VALUE=DATE:20220521
DTEND;VALUE=DATE:20220521
DESCRIPTION:Indy Cycloplex BMX
LOCATION:3649 Cold Spring Road  Adjacent To The Major Taylor Velodrome INDI
 ANAPOLIS IN 46222 USA
SUMMARY:State Race Double
URL:/site/bmx_races/493582
END:VEVENT
END:VCALENDAR
